BEGIN:VCALENDAR
VERSION:2.0
PRODID:-//NorCal NECA - ECPv6.15.20//NONSGML v1.0//EN
CALSCALE:GREGORIAN
METHOD:PUBLISH
X-ORIGINAL-URL:https://norcalneca.org
X-WR-CALDESC:Events for NorCal NECA
REFRESH-INTERVAL;VALUE=DURATION:PT1H
X-Robots-Tag:noindex
X-PUBLISHED-TTL:PT1H
BEGIN:VTIMEZONE
TZID:America/Los_Angeles
BEGIN:DAYLIGHT
TZOFFSETFROM:-0800
TZOFFSETTO:-0700
TZNAME:PDT
DTSTART:20250309T100000
END:DAYLIGHT
BEGIN:STANDARD
TZOFFSETFROM:-0700
TZOFFSETTO:-0800
TZNAME:PST
DTSTART:20251102T090000
END:STANDARD
BEGIN:DAYLIGHT
TZOFFSETFROM:-0800
TZOFFSETTO:-0700
TZNAME:PDT
DTSTART:20260308T100000
END:DAYLIGHT
BEGIN:STANDARD
TZOFFSETFROM:-0700
TZOFFSETTO:-0800
TZNAME:PST
DTSTART:20261101T090000
END:STANDARD
BEGIN:DAYLIGHT
TZOFFSETFROM:-0800
TZOFFSETTO:-0700
TZNAME:PDT
DTSTART:20270314T100000
END:DAYLIGHT
BEGIN:STANDARD
TZOFFSETFROM:-0700
TZOFFSETTO:-0800
TZNAME:PST
DTSTART:20271107T090000
END:STANDARD
END:VTIMEZONE
BEGIN:VEVENT
DTSTART;TZID=America/Los_Angeles:20260604T083000
DTEND;TZID=America/Los_Angeles:20260604T123000
DTSTAMP:20260423T225659
CREATED:20251212T205143Z
LAST-MODIFIED:20251216T230409Z
UID:9295-1780561800-1780576200@norcalneca.org
SUMMARY:WORKSHOP: Enable Success - Creating Alignment Between Field & Office
DESCRIPTION:
URL:https://norcalneca.org/calendar/workshop-enable-success-creating-alignment-between-field-office/
LOCATION:NorCal NECA Chapter Office\, 7041 Koll Center Parkway\, Suite 100\, Pleasanton\, CA\, 94566\, United States
END:VEVENT
BEGIN:VEVENT
DTSTART;TZID=America/Los_Angeles:20260609T100000
DTEND;TZID=America/Los_Angeles:20260609T113000
DTSTAMP:20260423T225659
CREATED:20260413T163646Z
LAST-MODIFIED:20260413T163646Z
UID:9825-1780999200-1781004600@norcalneca.org
SUMMARY:Virtual: NECA ADR Program
DESCRIPTION:NECA Chapters are inviting you to attend a NECA ADR (Alternative Dispute Resolution) Program Overview & Q&A on Tuesday\, June 9\, 2026\, from 10:00 AM to 11:30 AM. \nWe are actively encouraging contractors to learn more about\, and consider participating in\, the NECA ADR program\, a proven approach designed to help contractors reduce costs\, streamline claims\, and improve workforce outcomes. \nZoom registration required:        https://us06web.zoom.us/meeting/register/noiePXcITjOHmukI0_EG1Q      \nBy joining this session\, you’ll gain insight into how the ADR program can: \n– Lower workers’ compensation and insurance costs \n– Reduce claim durations and administrative burden \n– Minimize litigation and associated expenses \n– Support faster\, more effective return-to-work outcomes \n– Improve overall claims management efficiency \nWe’ll be joined by Karl Huish (NECA West Administrator)\, who will walk through the program and share real-world perspective on its value to contractors. \n 
URL:https://norcalneca.org/calendar/virtual-neca-adr-program/
LOCATION:Zoom Video Conference
END:VEVENT
END:VCALENDAR