BEGIN:VCALENDAR
VERSION:2.0
PRODID:-//NorCal NECA - ECPv6.15.20//NONSGML v1.0//EN
CALSCALE:GREGORIAN
METHOD:PUBLISH
X-WR-CALNAME:NorCal NECA
X-ORIGINAL-URL:https://norcalneca.org
X-WR-CALDESC:Events for NorCal NECA
REFRESH-INTERVAL;VALUE=DURATION:PT1H
X-Robots-Tag:noindex
X-PUBLISHED-TTL:PT1H
BEGIN:VTIMEZONE
TZID:America/Los_Angeles
BEGIN:DAYLIGHT
TZOFFSETFROM:-0800
TZOFFSETTO:-0700
TZNAME:PDT
DTSTART:20250309T100000
END:DAYLIGHT
BEGIN:STANDARD
TZOFFSETFROM:-0700
TZOFFSETTO:-0800
TZNAME:PST
DTSTART:20251102T090000
END:STANDARD
BEGIN:DAYLIGHT
TZOFFSETFROM:-0800
TZOFFSETTO:-0700
TZNAME:PDT
DTSTART:20260308T100000
END:DAYLIGHT
BEGIN:STANDARD
TZOFFSETFROM:-0700
TZOFFSETTO:-0800
TZNAME:PST
DTSTART:20261101T090000
END:STANDARD
BEGIN:DAYLIGHT
TZOFFSETFROM:-0800
TZOFFSETTO:-0700
TZNAME:PDT
DTSTART:20270314T100000
END:DAYLIGHT
BEGIN:STANDARD
TZOFFSETFROM:-0700
TZOFFSETTO:-0800
TZNAME:PST
DTSTART:20271107T090000
END:STANDARD
BEGIN:DAYLIGHT
TZOFFSETFROM:-0800
TZOFFSETTO:-0700
TZNAME:PDT
DTSTART:20280312T100000
END:DAYLIGHT
BEGIN:STANDARD
TZOFFSETFROM:-0700
TZOFFSETTO:-0800
TZNAME:PST
DTSTART:20281105T090000
END:STANDARD
END:VTIMEZONE
BEGIN:VEVENT
DTSTART;VALUE=DATE:20260703
DTEND;VALUE=DATE:20260704
DTSTAMP:20260425T081737
CREATED:20250930T154322Z
LAST-MODIFIED:20251017T062046Z
UID:8971-1783036800-1783123199@norcalneca.org
SUMMARY:HOLIDAY: Independence Day Observance
DESCRIPTION:Holiday for the following jurisdictions: \n\nLocal 595W Inside and Maintenance Agreements\nLocal 595E Inside and Maintenance Agreement\nLocal 180 Inside Agreement\nLocal 684 Inside Agreement\nNorthern California Sound & Communications Agreement\nBay to Borders Residential Agreement\n\n  \nChapter Office Closed
URL:https://norcalneca.org/calendar/holiday-independence-day-observance/
END:VEVENT
BEGIN:VEVENT
DTSTART;VALUE=DATE:20260706
DTEND;VALUE=DATE:20260707
DTSTAMP:20260425T081737
CREATED:20250930T154540Z
LAST-MODIFIED:20251017T062046Z
UID:8973-1783296000-1783382399@norcalneca.org
SUMMARY:595W Designated Off-Day
DESCRIPTION:Designated Off-Day for Local 595W.
URL:https://norcalneca.org/calendar/595w-designated-off-day/
END:VEVENT
BEGIN:VEVENT
DTSTART;TZID=America/Los_Angeles:20260811T123000
DTEND;TZID=America/Los_Angeles:20260811T133000
DTSTAMP:20260425T081737
CREATED:20260424T185402Z
LAST-MODIFIED:20260424T185402Z
UID:9856-1786451400-1786455000@norcalneca.org
SUMMARY:Lunch & Learn: Labor Operations Master Class hosted by Rivet
DESCRIPTION:Location:  Zoom Video Conference (register here) \n\n\n\n\n\n\n\n\nLabor is the #1 risk or reward on projects; from chaos to control. The chaos of labor planning is costing contractors more than ever; but should be their greatest opportunity. The Labor Operations Master Class shares industry best practices and repeatable strategies to take control of labor planning\, forecasting and productivity. \nJoin RIVET who will share industry-best practices around labor planning (forecasting\, scheduling\, productivity/WIP-alignment\, team processes\, etc.) accumulated from hundreds of self-performing contractors across the globe. This Labor Operations Master Class is a chance for contractors to learn industry trends and best practices around labor operations; as well as areas of opportunity where labor profits are typically lost\, or uncovered. What members will learn in this course: \n\nLabor Exit-Strategies: Team plans for ramp-down & aligning labor to the WIP to combat profit-fade\nJob Saturation & Compression: Early-warnings & mitigation measures for job saturation & compression\nThe Labor Planning Triangle: From ‘project watchers’ to ‘project managers’
URL:https://norcalneca.org/calendar/lunch-learn-labor-operations-master-class-hosted-by-rivet/
LOCATION:Zoom Video Conference
END:VEVENT
BEGIN:VEVENT
DTSTART;VALUE=DATE:20260904
DTEND;VALUE=DATE:20260905
DTSTAMP:20260425T081737
CREATED:20250930T154857Z
LAST-MODIFIED:20251017T062046Z
UID:8975-1788480000-1788566399@norcalneca.org
SUMMARY:S&C Holiday / 595W Designated Off-Day / Carpenter's Off-Day
DESCRIPTION:Holiday the Northern California Sound & Communications Agreement. \nDesignated Off-Day for the Local 595W Inside Agreement. \nCarpenter’s Off-Day for the following Agreements: \n\nLocal 180 Inside Agreement\nBay to Borders Residential Agreement
URL:https://norcalneca.org/calendar/sc-holiday-595w-designated-off-day-carpenters-off-day/
END:VEVENT
BEGIN:VEVENT
DTSTART;VALUE=DATE:20260907
DTEND;VALUE=DATE:20260908
DTSTAMP:20260425T081737
CREATED:20250930T155016Z
LAST-MODIFIED:20251017T062046Z
UID:8977-1788739200-1788825599@norcalneca.org
SUMMARY:HOLIDAY: Labor Day
DESCRIPTION:Holiday for the following jurisdictions: \n\nLocal 595W Inside and Maintenance Agreements\nLocal 595E Inside and Maintenance Agreement\nLocal 180 Inside Agreement\nLocal 684 Inside Agreement\nNorthern California Sound & Communications Agreement\nBay to Borders Residential Agreement\n\n  \nChapter Office Closed
URL:https://norcalneca.org/calendar/holiday-labor-day/
END:VEVENT
BEGIN:VEVENT
DTSTART;TZID=America/Los_Angeles:20261028T080000
DTEND;TZID=America/Los_Angeles:20261029T150000
DTSTAMP:20260425T081737
CREATED:20260123T184259Z
LAST-MODIFIED:20260123T184259Z
UID:9510-1793174400-1793286000@norcalneca.org
SUMMARY:Professional Development Program Summit
DESCRIPTION:
URL:https://norcalneca.org/calendar/professional-development-program-summit/
LOCATION:NorCal NECA Chapter Office\, 7041 Koll Center Parkway\, Suite 100\, Pleasanton\, CA\, 94566\, United States
END:VEVENT
BEGIN:VEVENT
DTSTART;TZID=America/Los_Angeles:20261030T080000
DTEND;TZID=America/Los_Angeles:20261030T120000
DTSTAMP:20260425T081737
CREATED:20260123T184414Z
LAST-MODIFIED:20260123T184414Z
UID:9512-1793347200-1793361600@norcalneca.org
SUMMARY:Professional Development Program Summit
DESCRIPTION:
URL:https://norcalneca.org/calendar/professional-development-program-summit-2/
LOCATION:NorCal NECA Chapter Office\, 7041 Koll Center Parkway\, Suite 100\, Pleasanton\, CA\, 94566\, United States
END:VEVENT
BEGIN:VEVENT
DTSTART;VALUE=DATE:20261111
DTEND;VALUE=DATE:20261112
DTSTAMP:20260425T081737
CREATED:20250930T155145Z
LAST-MODIFIED:20251017T062046Z
UID:8979-1794355200-1794441599@norcalneca.org
SUMMARY:HOLIDAY: Veteran's Day
DESCRIPTION:Holiday for the following jurisdictions: \n\nLocal 595W Maintenance Agreement\nLocal 595E Inside Agreement\nLocal 180 Inside Agreement\nLocal 684 Inside Agreement
URL:https://norcalneca.org/calendar/holiday-veterans-day/
END:VEVENT
BEGIN:VEVENT
DTSTART;VALUE=DATE:20261126
DTEND;VALUE=DATE:20261127
DTSTAMP:20260425T081737
CREATED:20250930T155244Z
LAST-MODIFIED:20251017T062046Z
UID:8982-1795651200-1795737599@norcalneca.org
SUMMARY:HOLIDAY: Thanksgiving Day
DESCRIPTION:Holiday for the following jurisdictions: \n\nLocal 595W Inside and Maintenance Agreements\nLocal 595E Inside and Maintenance Agreement\nLocal 180 Inside Agreement\nLocal 684 Inside Agreement\nNorthern California Sound & Communications Agreement\nBay to Borders Residential Agreement\n\n  \nChapter Office Closed
URL:https://norcalneca.org/calendar/holiday-thanksgiving-day/
END:VEVENT
BEGIN:VEVENT
DTSTART;VALUE=DATE:20261127
DTEND;VALUE=DATE:20261128
DTSTAMP:20260425T081737
CREATED:20250930T155621Z
LAST-MODIFIED:20251017T062046Z
UID:8991-1795737600-1795823999@norcalneca.org
SUMMARY:HOLIDAY: Day After Thanksgiving
DESCRIPTION:Holiday for the following jurisdictions: \n\nLocal 595W Inside Agreements\nLocal 595E Inside and Maintenance Agreement\nLocal 180 Inside Agreement\nLocal 684 Inside Agreement\nNorthern California Sound & Communications Agreement\nBay to Borders Residential Agreement\n\n  \nChapter Office Closed
URL:https://norcalneca.org/calendar/holiday-day-after-thanksgiving/
END:VEVENT
BEGIN:VEVENT
DTSTART;VALUE=DATE:20261224
DTEND;VALUE=DATE:20261225
DTSTAMP:20260425T081737
CREATED:20250930T155816Z
LAST-MODIFIED:20251017T062046Z
UID:8994-1798070400-1798156799@norcalneca.org
SUMMARY:HOLIDAY: Christmas Eve
DESCRIPTION:Holiday for the following jurisdictions: \n\nLocal 595W Inside Agreements\nLocal 595E Inside and Maintenance Agreement\nLocal 180 Inside Agreement\nLocal 684 Inside Agreement\nNorthern California Sound & Communications Agreement\nBay to Borders Residential Agreement\n\n  \nChapter Office Closed
URL:https://norcalneca.org/calendar/holiday-christmas-eve/
END:VEVENT
BEGIN:VEVENT
DTSTART;VALUE=DATE:20261225
DTEND;VALUE=DATE:20261226
DTSTAMP:20260425T081737
CREATED:20250930T160021Z
LAST-MODIFIED:20251017T062046Z
UID:8998-1798156800-1798243199@norcalneca.org
SUMMARY:HOLIDAY: Christmas Day
DESCRIPTION:Holiday for the following jurisdictions: \n\nLocal 595W Inside and Maintenance Agreements\nLocal 595E Inside and Maintenance Agreement\nLocal 180 Inside Agreement\nLocal 684 Inside Agreement\nNorthern California Sound & Communications Agreement\nBay to Borders Residential Agreement\n\n  \nChapter Office Closed
URL:https://norcalneca.org/calendar/holiday-christmas-day/
END:VEVENT
BEGIN:VEVENT
DTSTART;VALUE=DATE:20261231
DTEND;VALUE=DATE:20270101
DTSTAMP:20260425T081737
CREATED:20250930T160250Z
LAST-MODIFIED:20251017T062046Z
UID:9001-1798675200-1798761599@norcalneca.org
SUMMARY:HOLIDAY: New Year's Eve
DESCRIPTION:Holiday for the Local 595E Maintenance Agreement.
URL:https://norcalneca.org/calendar/holiday-new-years-eve/
END:VEVENT
BEGIN:VEVENT
DTSTART;VALUE=DATE:20270101
DTEND;VALUE=DATE:20270102
DTSTAMP:20260425T081737
CREATED:20250930T160355Z
LAST-MODIFIED:20251017T082138Z
UID:9003-1798761600-1798847999@norcalneca.org
SUMMARY:HOLIDAY: New Year's Day
DESCRIPTION:Holiday for the following jurisdictions: \n\nLocal 595W Inside and Maintenance Agreements\nLocal 595E Inside and Maintenance Agreement\nLocal 180 Inside Agreement\nLocal 684 Inside Agreement\nNorthern California Sound & Communications Agreement\nBay to Borders Residential Agreement\n\n  \nChapter Office Closed
URL:https://norcalneca.org/calendar/holiday-new-years-day/
END:VEVENT
END:VCALENDAR