BEGIN:VCALENDAR
VERSION:2.0
PRODID:-//NorCal NECA - ECPv6.15.20//NONSGML v1.0//EN
CALSCALE:GREGORIAN
METHOD:PUBLISH
X-WR-CALNAME:NorCal NECA
X-ORIGINAL-URL:https://norcalneca.org
X-WR-CALDESC:Events for NorCal NECA
REFRESH-INTERVAL;VALUE=DURATION:PT1H
X-Robots-Tag:noindex
X-PUBLISHED-TTL:PT1H
BEGIN:VTIMEZONE
TZID:America/Los_Angeles
BEGIN:DAYLIGHT
TZOFFSETFROM:-0800
TZOFFSETTO:-0700
TZNAME:PDT
DTSTART:20250309T100000
END:DAYLIGHT
BEGIN:STANDARD
TZOFFSETFROM:-0700
TZOFFSETTO:-0800
TZNAME:PST
DTSTART:20251102T090000
END:STANDARD
BEGIN:DAYLIGHT
TZOFFSETFROM:-0800
TZOFFSETTO:-0700
TZNAME:PDT
DTSTART:20260308T100000
END:DAYLIGHT
BEGIN:STANDARD
TZOFFSETFROM:-0700
TZOFFSETTO:-0800
TZNAME:PST
DTSTART:20261101T090000
END:STANDARD
BEGIN:DAYLIGHT
TZOFFSETFROM:-0800
TZOFFSETTO:-0700
TZNAME:PDT
DTSTART:20270314T100000
END:DAYLIGHT
BEGIN:STANDARD
TZOFFSETFROM:-0700
TZOFFSETTO:-0800
TZNAME:PST
DTSTART:20271107T090000
END:STANDARD
END:VTIMEZONE
BEGIN:VEVENT
DTSTART;TZID=America/Los_Angeles:20260519T110000
DTEND;TZID=America/Los_Angeles:20260519T130000
DTSTAMP:20260423T225437
CREATED:20260306T160730Z
LAST-MODIFIED:20260306T160730Z
UID:9704-1779188400-1779195600@norcalneca.org
SUMMARY:Remarcable Lunch & Learn
DESCRIPTION:To register for this event click here https://norcalneca.org/education/remarcable-lunch-learn/ \nTake Control of your Materials: \n This session explores how procurement standardization\, supplier coordination\, and material visibility directly affect growth capacity\, margin predictability\, and operational performance for electrical and mechanical contractors. Many firms rely on fragmented tools and relationship-driven processes to manage purchasing\, which can create hidden margin erosion\, schedule delays\, and administrative drag as they scale.  \nWe will examine where procurement breakdowns typically occur\, how they impact field and office alignment\, and what changes when pricing and material data become visible in real time. Attendees will leave with a practical framework to evaluate their current workflows and identify opportunities to increase operational leverage without disrupting contractor culture.
URL:https://norcalneca.org/calendar/remarcable-lunch-learn-2/
LOCATION:NorCal NECA Chapter Office\, 7041 Koll Center Parkway\, Suite 100\, Pleasanton\, CA\, 94566\, United States
END:VEVENT
BEGIN:VEVENT
DTSTART;TZID=America/Los_Angeles:20260519T170000
DTEND;TZID=America/Los_Angeles:20260519T180000
DTSTAMP:20260423T225437
CREATED:20260213T192315Z
LAST-MODIFIED:20260213T192315Z
UID:9587-1779210000-1779213600@norcalneca.org
SUMMARY:MEETING: Codes & Standards Committee
DESCRIPTION:
URL:https://norcalneca.org/calendar/meeting-codes-standards-committee-23/
LOCATION:NorCal NECA Chapter Office\, 7041 Koll Center Parkway\, Suite 100\, Pleasanton\, CA\, 94566\, United States
END:VEVENT
BEGIN:VEVENT
DTSTART;TZID=America/Los_Angeles:20260519T180000
DTEND;TZID=America/Los_Angeles:20260519T200000
DTSTAMP:20260423T225437
CREATED:20260213T192437Z
LAST-MODIFIED:20260213T192437Z
UID:9589-1779213600-1779220800@norcalneca.org
SUMMARY:EDUCATIONAL FORUM: East Bay Uniform Code Committee
DESCRIPTION:
URL:https://norcalneca.org/calendar/educational-forum-east-bay-uniform-code-committee-10/
LOCATION:NorCal NECA Chapter Office\, 7041 Koll Center Parkway\, Suite 100\, Pleasanton\, CA\, 94566\, United States
END:VEVENT
BEGIN:VEVENT
DTSTART;TZID=America/Los_Angeles:20260519T180000
DTEND;TZID=America/Los_Angeles:20260519T200000
DTSTAMP:20260423T225437
CREATED:20260225T173443Z
LAST-MODIFIED:20260225T173443Z
UID:9678-1779213600-1779220800@norcalneca.org
SUMMARY:NorCal NECA Board of Directors
DESCRIPTION:
URL:https://norcalneca.org/calendar/norcal-neca-board-of-directors-7/
LOCATION:Flemings Steakhouse\, 1685 Mount Diablo Blvd.\, Walnut Creek\, CA\, 94596\, United States
END:VEVENT
END:VCALENDAR