BEGIN:VCALENDAR
VERSION:2.0
PRODID:-//NorCal NECA - ECPv6.15.20//NONSGML v1.0//EN
CALSCALE:GREGORIAN
METHOD:PUBLISH
X-ORIGINAL-URL:https://norcalneca.org
X-WR-CALDESC:Events for NorCal NECA
REFRESH-INTERVAL;VALUE=DURATION:PT1H
X-Robots-Tag:noindex
X-PUBLISHED-TTL:PT1H
BEGIN:VTIMEZONE
TZID:America/Los_Angeles
BEGIN:DAYLIGHT
TZOFFSETFROM:-0800
TZOFFSETTO:-0700
TZNAME:PDT
DTSTART:20250309T100000
END:DAYLIGHT
BEGIN:STANDARD
TZOFFSETFROM:-0700
TZOFFSETTO:-0800
TZNAME:PST
DTSTART:20251102T090000
END:STANDARD
BEGIN:DAYLIGHT
TZOFFSETFROM:-0800
TZOFFSETTO:-0700
TZNAME:PDT
DTSTART:20260308T100000
END:DAYLIGHT
BEGIN:STANDARD
TZOFFSETFROM:-0700
TZOFFSETTO:-0800
TZNAME:PST
DTSTART:20261101T090000
END:STANDARD
BEGIN:DAYLIGHT
TZOFFSETFROM:-0800
TZOFFSETTO:-0700
TZNAME:PDT
DTSTART:20270314T100000
END:DAYLIGHT
BEGIN:STANDARD
TZOFFSETFROM:-0700
TZOFFSETTO:-0800
TZNAME:PST
DTSTART:20271107T090000
END:STANDARD
END:VTIMEZONE
BEGIN:VEVENT
DTSTART;TZID=America/Los_Angeles:20260430T113000
DTEND;TZID=America/Los_Angeles:20260430T123000
DTSTAMP:20260423T210328
CREATED:20260407T162647Z
LAST-MODIFIED:20260407T162647Z
UID:9820-1777548600-1777552200@norcalneca.org
SUMMARY:Lunch & Learn Wired U
DESCRIPTION:The chapter will host a Leadership Lunch & Learn \n*You have the option to attend in person at the NECA Office or by Zoom  \nDate:   Thursday\, April 30\, 2026 \nTime:   11:30AM – 12:30PM (lunch included) \nPlace: NorCal NECA Office 7041 Koll Center Pkwy.\, Suite 100\, Pleasanton or Zoom (click here to register) \nCost:   Free to chapter members \nPresenter: Amanda King\, Wired Leadership \n\nAbout WiredU \nWiredU is a premier e-learning platform designed specifically for the electrical industry—built to develop leaders at every level of your organization. \nFrom emerging leaders to seasoned executives\, WiredU delivers practical\, job-ready training that drives performance both in the field and in the office.
URL:https://norcalneca.org/calendar/lunch-learn-wired-u/
LOCATION:NorCal NECA Chapter Office\, 7041 Koll Center Parkway\, Suite 100\, Pleasanton\, CA\, 94566\, United States
END:VEVENT
END:VCALENDAR