BEGIN:VCALENDAR
VERSION:2.0
PRODID:-//NorCal NECA - ECPv6.15.20//NONSGML v1.0//EN
CALSCALE:GREGORIAN
METHOD:PUBLISH
X-ORIGINAL-URL:https://norcalneca.org
X-WR-CALDESC:Events for NorCal NECA
REFRESH-INTERVAL;VALUE=DURATION:PT1H
X-Robots-Tag:noindex
X-PUBLISHED-TTL:PT1H
BEGIN:VTIMEZONE
TZID:America/Los_Angeles
BEGIN:DAYLIGHT
TZOFFSETFROM:-0800
TZOFFSETTO:-0700
TZNAME:PDT
DTSTART:20250309T100000
END:DAYLIGHT
BEGIN:STANDARD
TZOFFSETFROM:-0700
TZOFFSETTO:-0800
TZNAME:PST
DTSTART:20251102T090000
END:STANDARD
BEGIN:DAYLIGHT
TZOFFSETFROM:-0800
TZOFFSETTO:-0700
TZNAME:PDT
DTSTART:20260308T100000
END:DAYLIGHT
BEGIN:STANDARD
TZOFFSETFROM:-0700
TZOFFSETTO:-0800
TZNAME:PST
DTSTART:20261101T090000
END:STANDARD
BEGIN:DAYLIGHT
TZOFFSETFROM:-0800
TZOFFSETTO:-0700
TZNAME:PDT
DTSTART:20270314T100000
END:DAYLIGHT
BEGIN:STANDARD
TZOFFSETFROM:-0700
TZOFFSETTO:-0800
TZNAME:PST
DTSTART:20271107T090000
END:STANDARD
END:VTIMEZONE
BEGIN:VEVENT
DTSTART;TZID=America/Los_Angeles:20260428T110000
DTEND;TZID=America/Los_Angeles:20260428T123000
DTSTAMP:20260423T210328
CREATED:20260213T195649Z
LAST-MODIFIED:20260225T173057Z
UID:9608-1777374000-1777379400@norcalneca.org
SUMMARY:San Joaquin Building & Construction Trades LMCT
DESCRIPTION:
URL:https://norcalneca.org/calendar/meeting-san-joaquin-building-construction-trades-council-lmct/
LOCATION:Zoom Video Conference
END:VEVENT
BEGIN:VEVENT
DTSTART;TZID=America/Los_Angeles:20260428T120000
DTEND;TZID=America/Los_Angeles:20260428T133000
DTSTAMP:20260423T210328
CREATED:20260324T162558Z
LAST-MODIFIED:20260324T162558Z
UID:9777-1777377600-1777383000@norcalneca.org
SUMMARY:Egnyte Lunch & Learn: Ransomeware
DESCRIPTION:Ransomware in AEC: Industry Realities and Management Best Practices (hybrid)\nNorCal NECA Office\, 7041 Koll Center Pkwy.\, Suite 100
URL:https://norcalneca.org/calendar/egnyte-lunch-learn-ransomeware/
LOCATION:NorCal NECA Chapter Office\, 7041 Koll Center Parkway\, Suite 100\, Pleasanton\, CA\, 94566\, United States
END:VEVENT
END:VCALENDAR