BEGIN:VCALENDAR
VERSION:2.0
PRODID:-//NorCal NECA - ECPv6.15.20//NONSGML v1.0//EN
CALSCALE:GREGORIAN
METHOD:PUBLISH
X-WR-CALNAME:NorCal NECA
X-ORIGINAL-URL:https://norcalneca.org
X-WR-CALDESC:Events for NorCal NECA
REFRESH-INTERVAL;VALUE=DURATION:PT1H
X-Robots-Tag:noindex
X-PUBLISHED-TTL:PT1H
BEGIN:VTIMEZONE
TZID:America/Los_Angeles
BEGIN:DAYLIGHT
TZOFFSETFROM:-0800
TZOFFSETTO:-0700
TZNAME:PDT
DTSTART:20250309T100000
END:DAYLIGHT
BEGIN:STANDARD
TZOFFSETFROM:-0700
TZOFFSETTO:-0800
TZNAME:PST
DTSTART:20251102T090000
END:STANDARD
BEGIN:DAYLIGHT
TZOFFSETFROM:-0800
TZOFFSETTO:-0700
TZNAME:PDT
DTSTART:20260308T100000
END:DAYLIGHT
BEGIN:STANDARD
TZOFFSETFROM:-0700
TZOFFSETTO:-0800
TZNAME:PST
DTSTART:20261101T090000
END:STANDARD
BEGIN:DAYLIGHT
TZOFFSETFROM:-0800
TZOFFSETTO:-0700
TZNAME:PDT
DTSTART:20270314T100000
END:DAYLIGHT
BEGIN:STANDARD
TZOFFSETFROM:-0700
TZOFFSETTO:-0800
TZNAME:PST
DTSTART:20271107T090000
END:STANDARD
END:VTIMEZONE
BEGIN:VEVENT
DTSTART;TZID=America/Los_Angeles:20260421T090000
DTEND;TZID=America/Los_Angeles:20260421T130000
DTSTAMP:20260421T014731
CREATED:20260213T195142Z
LAST-MODIFIED:20260225T172647Z
UID:9604-1776762000-1776776400@norcalneca.org
SUMMARY:Local 180 Pension and Health & Welfare Trust
DESCRIPTION:
URL:https://norcalneca.org/calendar/meeting-ibew-lu180-board-of-trustee-2/
LOCATION:Solano/Napa Training Center\, 720-A Technology Way\, Napa\, CA\, 94558\, United States
END:VEVENT
BEGIN:VEVENT
DTSTART;TZID=America/Los_Angeles:20260421T170000
DTEND;TZID=America/Los_Angeles:20260421T180000
DTSTAMP:20260421T014731
CREATED:20260213T183838Z
LAST-MODIFIED:20260213T183838Z
UID:9581-1776790800-1776794400@norcalneca.org
SUMMARY:MEETING: Codes & Standards Committee
DESCRIPTION:
URL:https://norcalneca.org/calendar/meeting-codes-standards-committee-22/
LOCATION:NorCal NECA Chapter Office\, 7041 Koll Center Parkway\, Suite 100\, Pleasanton\, CA\, 94566\, United States
END:VEVENT
BEGIN:VEVENT
DTSTART;TZID=America/Los_Angeles:20260421T180000
DTEND;TZID=America/Los_Angeles:20260421T200000
DTSTAMP:20260421T014731
CREATED:20260213T183939Z
LAST-MODIFIED:20260213T183939Z
UID:9583-1776794400-1776801600@norcalneca.org
SUMMARY:EDUCATIONAL FORUM: East Bay Uniform Code Committee
DESCRIPTION:
URL:https://norcalneca.org/calendar/educational-forum-east-bay-uniform-code-committee-9/
LOCATION:NorCal NECA Chapter Office\, 7041 Koll Center Parkway\, Suite 100\, Pleasanton\, CA\, 94566\, United States
END:VEVENT
END:VCALENDAR