BEGIN:VCALENDAR
VERSION:2.0
PRODID:-//NorCal NECA - ECPv6.15.20//NONSGML v1.0//EN
CALSCALE:GREGORIAN
METHOD:PUBLISH
X-WR-CALNAME:NorCal NECA
X-ORIGINAL-URL:https://norcalneca.org
X-WR-CALDESC:Events for NorCal NECA
REFRESH-INTERVAL;VALUE=DURATION:PT1H
X-Robots-Tag:noindex
X-PUBLISHED-TTL:PT1H
BEGIN:VTIMEZONE
TZID:America/Los_Angeles
BEGIN:DAYLIGHT
TZOFFSETFROM:-0800
TZOFFSETTO:-0700
TZNAME:PDT
DTSTART:20250309T100000
END:DAYLIGHT
BEGIN:STANDARD
TZOFFSETFROM:-0700
TZOFFSETTO:-0800
TZNAME:PST
DTSTART:20251102T090000
END:STANDARD
BEGIN:DAYLIGHT
TZOFFSETFROM:-0800
TZOFFSETTO:-0700
TZNAME:PDT
DTSTART:20260308T100000
END:DAYLIGHT
BEGIN:STANDARD
TZOFFSETFROM:-0700
TZOFFSETTO:-0800
TZNAME:PST
DTSTART:20261101T090000
END:STANDARD
BEGIN:DAYLIGHT
TZOFFSETFROM:-0800
TZOFFSETTO:-0700
TZNAME:PDT
DTSTART:20270314T100000
END:DAYLIGHT
BEGIN:STANDARD
TZOFFSETFROM:-0700
TZOFFSETTO:-0800
TZNAME:PST
DTSTART:20271107T090000
END:STANDARD
END:VTIMEZONE
BEGIN:VEVENT
DTSTART;TZID=America/Los_Angeles:20260326T090000
DTEND;TZID=America/Los_Angeles:20260326T120000
DTSTAMP:20260423T225521
CREATED:20260225T171930Z
LAST-MODIFIED:20260225T171930Z
UID:9655-1774515600-1774526400@norcalneca.org
SUMMARY:Sound & Communications JATC
DESCRIPTION:
URL:https://norcalneca.org/calendar/sound-communications-jatc/
LOCATION:Video Conference
END:VEVENT
BEGIN:VEVENT
DTSTART;TZID=America/Los_Angeles:20260326T090000
DTEND;TZID=America/Los_Angeles:20260326T160000
DTSTAMP:20260423T225521
CREATED:20260225T171742Z
LAST-MODIFIED:20260225T171742Z
UID:9651-1774515600-1774540800@norcalneca.org
SUMMARY:Central Valley JATC
DESCRIPTION:
URL:https://norcalneca.org/calendar/central-valley-jatc-3/
LOCATION:Local 684 Union Hall\, 519 12th Street\, Modesto\, CA\, 95354\, United States
END:VEVENT
BEGIN:VEVENT
DTSTART;TZID=America/Los_Angeles:20260326T100000
DTEND;TZID=America/Los_Angeles:20260326T113000
DTSTAMP:20260423T225521
CREATED:20260225T171957Z
LAST-MODIFIED:20260225T171957Z
UID:9657-1774519200-1774524600@norcalneca.org
SUMMARY:Cal NECA Health Trust
DESCRIPTION:
URL:https://norcalneca.org/calendar/cal-neca-health-trust/
LOCATION:Video Conference
END:VEVENT
BEGIN:VEVENT
DTSTART;TZID=America/Los_Angeles:20260326T170000
DTEND;TZID=America/Los_Angeles:20260326T200000
DTSTAMP:20260423T225521
CREATED:20260225T171859Z
LAST-MODIFIED:20260225T171859Z
UID:9653-1774544400-1774555200@norcalneca.org
SUMMARY:East Bay EDA Innovation Awards
DESCRIPTION:
URL:https://norcalneca.org/calendar/east-bay-eda-innovation-awards-2/
LOCATION:Oakland\, CA
END:VEVENT
END:VCALENDAR