BEGIN:VCALENDAR
VERSION:2.0
PRODID:-//NorCal NECA - ECPv6.15.20//NONSGML v1.0//EN
CALSCALE:GREGORIAN
METHOD:PUBLISH
X-ORIGINAL-URL:https://norcalneca.org
X-WR-CALDESC:Events for NorCal NECA
REFRESH-INTERVAL;VALUE=DURATION:PT1H
X-Robots-Tag:noindex
X-PUBLISHED-TTL:PT1H
BEGIN:VTIMEZONE
TZID:America/Los_Angeles
BEGIN:DAYLIGHT
TZOFFSETFROM:-0800
TZOFFSETTO:-0700
TZNAME:PDT
DTSTART:20250309T100000
END:DAYLIGHT
BEGIN:STANDARD
TZOFFSETFROM:-0700
TZOFFSETTO:-0800
TZNAME:PST
DTSTART:20251102T090000
END:STANDARD
BEGIN:DAYLIGHT
TZOFFSETFROM:-0800
TZOFFSETTO:-0700
TZNAME:PDT
DTSTART:20260308T100000
END:DAYLIGHT
BEGIN:STANDARD
TZOFFSETFROM:-0700
TZOFFSETTO:-0800
TZNAME:PST
DTSTART:20261101T090000
END:STANDARD
BEGIN:DAYLIGHT
TZOFFSETFROM:-0800
TZOFFSETTO:-0700
TZNAME:PDT
DTSTART:20270314T100000
END:DAYLIGHT
BEGIN:STANDARD
TZOFFSETFROM:-0700
TZOFFSETTO:-0800
TZNAME:PST
DTSTART:20271107T090000
END:STANDARD
END:VTIMEZONE
BEGIN:VEVENT
DTSTART;TZID=America/Los_Angeles:20260310T090000
DTEND;TZID=America/Los_Angeles:20260310T130000
DTSTAMP:20260423T225657
CREATED:20251202T184904Z
LAST-MODIFIED:20251202T184904Z
UID:9213-1773133200-1773147600@norcalneca.org
SUMMARY:WORKSHOP: Mental Health 1st Aid @ Work Certification
DESCRIPTION:
URL:https://norcalneca.org/calendar/workshop-mental-health-1st-aid-work-certification/
LOCATION:NorCal NECA Chapter Office\, 7041 Koll Center Parkway\, Suite 100\, Pleasanton\, CA\, 94566\, United States
END:VEVENT
BEGIN:VEVENT
DTSTART;TZID=America/Los_Angeles:20260310T113000
DTEND;TZID=America/Los_Angeles:20260310T133000
DTSTAMP:20260423T225657
CREATED:20260225T171224Z
LAST-MODIFIED:20260225T171224Z
UID:9634-1773142200-1773149400@norcalneca.org
SUMMARY:Alameda Division Meeting
DESCRIPTION:
URL:https://norcalneca.org/calendar/alameda-division-meeting-15/
LOCATION:ZNE Center\, 14600 Catalina Street\, San Leandro\, CA\, 94577\, United States
END:VEVENT
END:VCALENDAR