BEGIN:VCALENDAR
VERSION:2.0
PRODID:-//NorCal NECA - ECPv6.15.20//NONSGML v1.0//EN
CALSCALE:GREGORIAN
METHOD:PUBLISH
X-WR-CALNAME:NorCal NECA
X-ORIGINAL-URL:https://norcalneca.org
X-WR-CALDESC:Events for NorCal NECA
REFRESH-INTERVAL;VALUE=DURATION:PT1H
X-Robots-Tag:noindex
X-PUBLISHED-TTL:PT1H
BEGIN:VTIMEZONE
TZID:America/Los_Angeles
BEGIN:DAYLIGHT
TZOFFSETFROM:-0800
TZOFFSETTO:-0700
TZNAME:PDT
DTSTART:20250309T100000
END:DAYLIGHT
BEGIN:STANDARD
TZOFFSETFROM:-0700
TZOFFSETTO:-0800
TZNAME:PST
DTSTART:20251102T090000
END:STANDARD
BEGIN:DAYLIGHT
TZOFFSETFROM:-0800
TZOFFSETTO:-0700
TZNAME:PDT
DTSTART:20260308T100000
END:DAYLIGHT
BEGIN:STANDARD
TZOFFSETFROM:-0700
TZOFFSETTO:-0800
TZNAME:PST
DTSTART:20261101T090000
END:STANDARD
BEGIN:DAYLIGHT
TZOFFSETFROM:-0800
TZOFFSETTO:-0700
TZNAME:PDT
DTSTART:20270314T100000
END:DAYLIGHT
BEGIN:STANDARD
TZOFFSETFROM:-0700
TZOFFSETTO:-0800
TZNAME:PST
DTSTART:20271107T090000
END:STANDARD
END:VTIMEZONE
BEGIN:VEVENT
DTSTART;TZID=America/Los_Angeles:20260303T080000
DTEND;TZID=America/Los_Angeles:20260305T160000
DTSTAMP:20260423T225438
CREATED:20260112T235351Z
LAST-MODIFIED:20260112T235351Z
UID:9484-1772524800-1772726400@norcalneca.org
SUMMARY:WORKSHOP: Basic Estimating of Electrical Construction
DESCRIPTION:for more information and to register go to norcalneca.org select the Education tab.
URL:https://norcalneca.org/calendar/workshop-basic-estimating-of-electrical-construction-4/
END:VEVENT
END:VCALENDAR