BEGIN:VCALENDAR
VERSION:2.0
PRODID:-//NorCal NECA - ECPv6.15.20//NONSGML v1.0//EN
CALSCALE:GREGORIAN
METHOD:PUBLISH
X-ORIGINAL-URL:https://norcalneca.org
X-WR-CALDESC:Events for NorCal NECA
REFRESH-INTERVAL;VALUE=DURATION:PT1H
X-Robots-Tag:noindex
X-PUBLISHED-TTL:PT1H
BEGIN:VTIMEZONE
TZID:America/Los_Angeles
BEGIN:DAYLIGHT
TZOFFSETFROM:-0800
TZOFFSETTO:-0700
TZNAME:PDT
DTSTART:20250309T100000
END:DAYLIGHT
BEGIN:STANDARD
TZOFFSETFROM:-0700
TZOFFSETTO:-0800
TZNAME:PST
DTSTART:20251102T090000
END:STANDARD
BEGIN:DAYLIGHT
TZOFFSETFROM:-0800
TZOFFSETTO:-0700
TZNAME:PDT
DTSTART:20260308T100000
END:DAYLIGHT
BEGIN:STANDARD
TZOFFSETFROM:-0700
TZOFFSETTO:-0800
TZNAME:PST
DTSTART:20261101T090000
END:STANDARD
BEGIN:DAYLIGHT
TZOFFSETFROM:-0800
TZOFFSETTO:-0700
TZNAME:PDT
DTSTART:20270314T100000
END:DAYLIGHT
BEGIN:STANDARD
TZOFFSETFROM:-0700
TZOFFSETTO:-0800
TZNAME:PST
DTSTART:20271107T090000
END:STANDARD
END:VTIMEZONE
BEGIN:VEVENT
DTSTART;TZID=America/Los_Angeles:20260224T100000
DTEND;TZID=America/Los_Angeles:20260224T120000
DTSTAMP:20260424T004907
CREATED:20260201T161143Z
LAST-MODIFIED:20260201T161143Z
UID:9541-1771927200-1771934400@norcalneca.org
SUMMARY:CA Statewide JATC Meeting
DESCRIPTION:
URL:https://norcalneca.org/calendar/ca-statewide-jatc-meeting-2/
LOCATION:Video Conference
END:VEVENT
BEGIN:VEVENT
DTSTART;TZID=America/Los_Angeles:20260224T113000
DTEND;TZID=America/Los_Angeles:20260224T123000
DTSTAMP:20260424T004907
CREATED:20260201T161217Z
LAST-MODIFIED:20260201T161217Z
UID:9543-1771932600-1771936200@norcalneca.org
SUMMARY:Document Crunch 'Lunch & Learn'
DESCRIPTION:
URL:https://norcalneca.org/calendar/document-crunch-lunch-learn/
LOCATION:Video Conference
END:VEVENT
END:VCALENDAR