BEGIN:VCALENDAR
VERSION:2.0
PRODID:-//NorCal NECA - ECPv6.15.20//NONSGML v1.0//EN
CALSCALE:GREGORIAN
METHOD:PUBLISH
X-ORIGINAL-URL:https://norcalneca.org
X-WR-CALDESC:Events for NorCal NECA
REFRESH-INTERVAL;VALUE=DURATION:PT1H
X-Robots-Tag:noindex
X-PUBLISHED-TTL:PT1H
BEGIN:VTIMEZONE
TZID:America/Los_Angeles
BEGIN:DAYLIGHT
TZOFFSETFROM:-0800
TZOFFSETTO:-0700
TZNAME:PDT
DTSTART:20250309T100000
END:DAYLIGHT
BEGIN:STANDARD
TZOFFSETFROM:-0700
TZOFFSETTO:-0800
TZNAME:PST
DTSTART:20251102T090000
END:STANDARD
BEGIN:DAYLIGHT
TZOFFSETFROM:-0800
TZOFFSETTO:-0700
TZNAME:PDT
DTSTART:20260308T100000
END:DAYLIGHT
BEGIN:STANDARD
TZOFFSETFROM:-0700
TZOFFSETTO:-0800
TZNAME:PST
DTSTART:20261101T090000
END:STANDARD
BEGIN:DAYLIGHT
TZOFFSETFROM:-0800
TZOFFSETTO:-0700
TZNAME:PDT
DTSTART:20270314T100000
END:DAYLIGHT
BEGIN:STANDARD
TZOFFSETFROM:-0700
TZOFFSETTO:-0800
TZNAME:PST
DTSTART:20271107T090000
END:STANDARD
END:VTIMEZONE
BEGIN:VEVENT
DTSTART;TZID=America/Los_Angeles:20260219T083000
DTEND;TZID=America/Los_Angeles:20260219T103000
DTSTAMP:20260424T004908
CREATED:20251203T222459Z
LAST-MODIFIED:20251203T222459Z
UID:9244-1771489800-1771497000@norcalneca.org
SUMMARY:VIRTUAL WORKSHOP: Bridging Generations: Effective Communication for Leaders and Emerging Professionals
DESCRIPTION:Zoom registration required\, go to norcal www.neca.org/education \n 
URL:https://norcalneca.org/calendar/virtual-workshop-bridging-generations-effective-communication-for-leaders-and-emerging-professionals/
LOCATION:Zoom Video Conference
END:VEVENT
BEGIN:VEVENT
DTSTART;TZID=America/Los_Angeles:20260219T090000
DTEND;TZID=America/Los_Angeles:20260219T160000
DTSTAMP:20260424T004908
CREATED:20260201T161517Z
LAST-MODIFIED:20260201T161517Z
UID:9553-1771491600-1771516800@norcalneca.org
SUMMARY:Alameda Apprentice Interviews
DESCRIPTION:
URL:https://norcalneca.org/calendar/alameda-apprentice-interviews-6/
LOCATION:ZNE Center\, 14600 Catalina Street\, San Leandro\, CA\, 94577\, United States
END:VEVENT
BEGIN:VEVENT
DTSTART;TZID=America/Los_Angeles:20260219T130000
DTEND;TZID=America/Los_Angeles:20260219T150000
DTSTAMP:20260424T004908
CREATED:20260201T161059Z
LAST-MODIFIED:20260201T161059Z
UID:9539-1771506000-1771513200@norcalneca.org
SUMMARY:Member Services Committee Meeting
DESCRIPTION:
URL:https://norcalneca.org/calendar/member-services-committee-meeting-2/
LOCATION:Video Conference
END:VEVENT
END:VCALENDAR