BEGIN:VCALENDAR
VERSION:2.0
PRODID:-//NorCal NECA - ECPv6.15.20//NONSGML v1.0//EN
CALSCALE:GREGORIAN
METHOD:PUBLISH
X-ORIGINAL-URL:https://norcalneca.org
X-WR-CALDESC:Events for NorCal NECA
REFRESH-INTERVAL;VALUE=DURATION:PT1H
X-Robots-Tag:noindex
X-PUBLISHED-TTL:PT1H
BEGIN:VTIMEZONE
TZID:America/Los_Angeles
BEGIN:DAYLIGHT
TZOFFSETFROM:-0800
TZOFFSETTO:-0700
TZNAME:PDT
DTSTART:20250309T100000
END:DAYLIGHT
BEGIN:STANDARD
TZOFFSETFROM:-0700
TZOFFSETTO:-0800
TZNAME:PST
DTSTART:20251102T090000
END:STANDARD
BEGIN:DAYLIGHT
TZOFFSETFROM:-0800
TZOFFSETTO:-0700
TZNAME:PDT
DTSTART:20260308T100000
END:DAYLIGHT
BEGIN:STANDARD
TZOFFSETFROM:-0700
TZOFFSETTO:-0800
TZNAME:PST
DTSTART:20261101T090000
END:STANDARD
BEGIN:DAYLIGHT
TZOFFSETFROM:-0800
TZOFFSETTO:-0700
TZNAME:PDT
DTSTART:20270314T100000
END:DAYLIGHT
BEGIN:STANDARD
TZOFFSETFROM:-0700
TZOFFSETTO:-0800
TZNAME:PST
DTSTART:20271107T090000
END:STANDARD
END:VTIMEZONE
BEGIN:VEVENT
DTSTART;TZID=America/Los_Angeles:20260217T103000
DTEND;TZID=America/Los_Angeles:20260217T113000
DTSTAMP:20260424T004911
CREATED:20260201T160606Z
LAST-MODIFIED:20260201T160606Z
UID:9527-1771324200-1771327800@norcalneca.org
SUMMARY:Technology Division Meeting
DESCRIPTION:
URL:https://norcalneca.org/calendar/technology-division-meeting-7/
LOCATION:Video Conference
END:VEVENT
BEGIN:VEVENT
DTSTART;TZID=America/Los_Angeles:20260217T170000
DTEND;TZID=America/Los_Angeles:20260217T180000
DTSTAMP:20260424T004911
CREATED:20260201T160723Z
LAST-MODIFIED:20260201T160737Z
UID:9531-1771347600-1771351200@norcalneca.org
SUMMARY:Codes & Standards Committee
DESCRIPTION:
URL:https://norcalneca.org/calendar/codes-standards-committee-9/
LOCATION:NorCal NECA Chapter Office\, 7041 Koll Center Parkway\, Suite 100\, Pleasanton\, CA\, 94566\, United States
END:VEVENT
BEGIN:VEVENT
DTSTART;TZID=America/Los_Angeles:20260217T170000
DTEND;TZID=America/Los_Angeles:20260217T190000
DTSTAMP:20260424T004911
CREATED:20260201T160649Z
LAST-MODIFIED:20260201T160649Z
UID:9529-1771347600-1771354800@norcalneca.org
SUMMARY:Joint Valley Division Meeting
DESCRIPTION:
URL:https://norcalneca.org/calendar/joint-valley-division-meeting-4/
LOCATION:Ernie’s Food & Spirits\, 1351 North Main Street\, Manteca\, CA\, 95336\, United States
END:VEVENT
BEGIN:VEVENT
DTSTART;TZID=America/Los_Angeles:20260217T180000
DTEND;TZID=America/Los_Angeles:20260217T200000
DTSTAMP:20260424T004911
CREATED:20260201T160806Z
LAST-MODIFIED:20260201T160806Z
UID:9533-1771351200-1771358400@norcalneca.org
SUMMARY:EBUCC Educational Forum
DESCRIPTION:
URL:https://norcalneca.org/calendar/ebucc-educational-forum-19/
LOCATION:NorCal NECA Chapter Office\, 7041 Koll Center Parkway\, Suite 100\, Pleasanton\, CA\, 94566\, United States
END:VEVENT
END:VCALENDAR