BEGIN:VCALENDAR
VERSION:2.0
PRODID:-//NorCal NECA - ECPv6.15.20//NONSGML v1.0//EN
CALSCALE:GREGORIAN
METHOD:PUBLISH
X-ORIGINAL-URL:https://norcalneca.org
X-WR-CALDESC:Events for NorCal NECA
REFRESH-INTERVAL;VALUE=DURATION:PT1H
X-Robots-Tag:noindex
X-PUBLISHED-TTL:PT1H
BEGIN:VTIMEZONE
TZID:America/Los_Angeles
BEGIN:DAYLIGHT
TZOFFSETFROM:-0800
TZOFFSETTO:-0700
TZNAME:PDT
DTSTART:20250309T100000
END:DAYLIGHT
BEGIN:STANDARD
TZOFFSETFROM:-0700
TZOFFSETTO:-0800
TZNAME:PST
DTSTART:20251102T090000
END:STANDARD
BEGIN:DAYLIGHT
TZOFFSETFROM:-0800
TZOFFSETTO:-0700
TZNAME:PDT
DTSTART:20260308T100000
END:DAYLIGHT
BEGIN:STANDARD
TZOFFSETFROM:-0700
TZOFFSETTO:-0800
TZNAME:PST
DTSTART:20261101T090000
END:STANDARD
BEGIN:DAYLIGHT
TZOFFSETFROM:-0800
TZOFFSETTO:-0700
TZNAME:PDT
DTSTART:20270314T100000
END:DAYLIGHT
BEGIN:STANDARD
TZOFFSETFROM:-0700
TZOFFSETTO:-0800
TZNAME:PST
DTSTART:20271107T090000
END:STANDARD
END:VTIMEZONE
BEGIN:VEVENT
DTSTART;VALUE=DATE:20260202
DTEND;VALUE=DATE:20260205
DTSTAMP:20260424T004909
CREATED:20251212T210315Z
LAST-MODIFIED:20251212T210315Z
UID:9297-1769990400-1770249599@norcalneca.org
SUMMARY:Women in NECA Leadership Conference
DESCRIPTION:An event to empower and engage women in the electrical contracting industry.\nselect the link to register \nhttps://portal.necanet.org/NC__Event?id=a0lPU0000095RgjYAE
URL:https://norcalneca.org/calendar/women-in-neca-leadership-conference/
LOCATION:Hotel Crescent Court\, 400 Crescent Court\, Dallas\, TX\, 75201\, United States
END:VEVENT
BEGIN:VEVENT
DTSTART;TZID=America/Los_Angeles:20260204T120000
DTEND;TZID=America/Los_Angeles:20260204T140000
DTSTAMP:20260424T004909
CREATED:20251217T202353Z
LAST-MODIFIED:20251217T202353Z
UID:9342-1770206400-1770213600@norcalneca.org
SUMMARY:East Bay EDA Board of Directors
DESCRIPTION:
URL:https://norcalneca.org/calendar/east-bay-eda-board-of-directors-5/
LOCATION:Video Conference
END:VEVENT
END:VCALENDAR