BEGIN:VCALENDAR
VERSION:2.0
PRODID:-//NorCal NECA - ECPv6.15.20//NONSGML v1.0//EN
CALSCALE:GREGORIAN
METHOD:PUBLISH
X-WR-CALNAME:NorCal NECA
X-ORIGINAL-URL:https://norcalneca.org
X-WR-CALDESC:Events for NorCal NECA
REFRESH-INTERVAL;VALUE=DURATION:PT1H
X-Robots-Tag:noindex
X-PUBLISHED-TTL:PT1H
BEGIN:VTIMEZONE
TZID:America/Los_Angeles
BEGIN:DAYLIGHT
TZOFFSETFROM:-0800
TZOFFSETTO:-0700
TZNAME:PDT
DTSTART:20250309T100000
END:DAYLIGHT
BEGIN:STANDARD
TZOFFSETFROM:-0700
TZOFFSETTO:-0800
TZNAME:PST
DTSTART:20251102T090000
END:STANDARD
BEGIN:DAYLIGHT
TZOFFSETFROM:-0800
TZOFFSETTO:-0700
TZNAME:PDT
DTSTART:20260308T100000
END:DAYLIGHT
BEGIN:STANDARD
TZOFFSETFROM:-0700
TZOFFSETTO:-0800
TZNAME:PST
DTSTART:20261101T090000
END:STANDARD
BEGIN:DAYLIGHT
TZOFFSETFROM:-0800
TZOFFSETTO:-0700
TZNAME:PDT
DTSTART:20270314T100000
END:DAYLIGHT
BEGIN:STANDARD
TZOFFSETFROM:-0700
TZOFFSETTO:-0800
TZNAME:PST
DTSTART:20271107T090000
END:STANDARD
END:VTIMEZONE
BEGIN:VEVENT
DTSTART;VALUE=DATE:20260202
DTEND;VALUE=DATE:20260205
DTSTAMP:20260424T004715
CREATED:20251212T210315Z
LAST-MODIFIED:20251212T210315Z
UID:9297-1769990400-1770249599@norcalneca.org
SUMMARY:Women in NECA Leadership Conference
DESCRIPTION:An event to empower and engage women in the electrical contracting industry.\nselect the link to register \nhttps://portal.necanet.org/NC__Event?id=a0lPU0000095RgjYAE
URL:https://norcalneca.org/calendar/women-in-neca-leadership-conference/
LOCATION:Hotel Crescent Court\, 400 Crescent Court\, Dallas\, TX\, 75201\, United States
END:VEVENT
BEGIN:VEVENT
DTSTART;TZID=America/Los_Angeles:20260203T090000
DTEND;TZID=America/Los_Angeles:20260203T160000
DTSTAMP:20260424T004715
CREATED:20260201T161456Z
LAST-MODIFIED:20260201T161456Z
UID:9551-1770109200-1770134400@norcalneca.org
SUMMARY:Alameda Apprentice Interviews
DESCRIPTION:
URL:https://norcalneca.org/calendar/alameda-apprentice-interviews-5/
LOCATION:ZNE Center\, 14600 Catalina Street\, San Leandro\, CA\, 94577\, United States
END:VEVENT
BEGIN:VEVENT
DTSTART;TZID=America/Los_Angeles:20260203T140000
DTEND;TZID=America/Los_Angeles:20260203T170000
DTSTAMP:20260424T004715
CREATED:20260201T160318Z
LAST-MODIFIED:20260201T160318Z
UID:9517-1770127200-1770138000@norcalneca.org
SUMMARY:Stockton Apprentice Interviews
DESCRIPTION:
URL:https://norcalneca.org/calendar/stockton-apprentice-interviews-9/
LOCATION:Stockton Training Center\, 1531 El Pinal Drive\, Stockton\, CA\, 95205\, United States
END:VEVENT
END:VCALENDAR