BEGIN:VCALENDAR
VERSION:2.0
PRODID:-//NorCal NECA - ECPv6.15.20//NONSGML v1.0//EN
CALSCALE:GREGORIAN
METHOD:PUBLISH
X-WR-CALNAME:NorCal NECA
X-ORIGINAL-URL:https://norcalneca.org
X-WR-CALDESC:Events for NorCal NECA
REFRESH-INTERVAL;VALUE=DURATION:PT1H
X-Robots-Tag:noindex
X-PUBLISHED-TTL:PT1H
BEGIN:VTIMEZONE
TZID:America/Los_Angeles
BEGIN:DAYLIGHT
TZOFFSETFROM:-0800
TZOFFSETTO:-0700
TZNAME:PDT
DTSTART:20250309T100000
END:DAYLIGHT
BEGIN:STANDARD
TZOFFSETFROM:-0700
TZOFFSETTO:-0800
TZNAME:PST
DTSTART:20251102T090000
END:STANDARD
BEGIN:DAYLIGHT
TZOFFSETFROM:-0800
TZOFFSETTO:-0700
TZNAME:PDT
DTSTART:20260308T100000
END:DAYLIGHT
BEGIN:STANDARD
TZOFFSETFROM:-0700
TZOFFSETTO:-0800
TZNAME:PST
DTSTART:20261101T090000
END:STANDARD
BEGIN:DAYLIGHT
TZOFFSETFROM:-0800
TZOFFSETTO:-0700
TZNAME:PDT
DTSTART:20270314T100000
END:DAYLIGHT
BEGIN:STANDARD
TZOFFSETFROM:-0700
TZOFFSETTO:-0800
TZNAME:PST
DTSTART:20271107T090000
END:STANDARD
END:VTIMEZONE
BEGIN:VEVENT
DTSTART;TZID=America/Los_Angeles:20260129T113000
DTEND;TZID=America/Los_Angeles:20260129T123000
DTSTAMP:20260424T022930
CREATED:20251212T185232Z
LAST-MODIFIED:20251212T185232Z
UID:9291-1769686200-1769689800@norcalneca.org
SUMMARY:Lunch & Learn Presented by GMS
DESCRIPTION:Group Management Services (GMS) is your professional employer organization (PEO) partner. As a PEO\, we provide comprehensive human resources management services to growing businesses across the United States. From payroll and benefits to workers’ compensation and workplace safety\, we can handle all of your HR needs so you can focus on what you do best: running your business. \nZoom registration required 
URL:https://norcalneca.org/calendar/lunch-learn-presented-by-gms/
LOCATION:Zoom Video Conference
END:VEVENT
END:VCALENDAR