BEGIN:VCALENDAR
VERSION:2.0
PRODID:-//NorCal NECA - ECPv6.15.20//NONSGML v1.0//EN
CALSCALE:GREGORIAN
METHOD:PUBLISH
X-WR-CALNAME:NorCal NECA
X-ORIGINAL-URL:https://norcalneca.org
X-WR-CALDESC:Events for NorCal NECA
REFRESH-INTERVAL;VALUE=DURATION:PT1H
X-Robots-Tag:noindex
X-PUBLISHED-TTL:PT1H
BEGIN:VTIMEZONE
TZID:America/Los_Angeles
BEGIN:DAYLIGHT
TZOFFSETFROM:-0800
TZOFFSETTO:-0700
TZNAME:PDT
DTSTART:20250309T100000
END:DAYLIGHT
BEGIN:STANDARD
TZOFFSETFROM:-0700
TZOFFSETTO:-0800
TZNAME:PST
DTSTART:20251102T090000
END:STANDARD
BEGIN:DAYLIGHT
TZOFFSETFROM:-0800
TZOFFSETTO:-0700
TZNAME:PDT
DTSTART:20260308T100000
END:DAYLIGHT
BEGIN:STANDARD
TZOFFSETFROM:-0700
TZOFFSETTO:-0800
TZNAME:PST
DTSTART:20261101T090000
END:STANDARD
BEGIN:DAYLIGHT
TZOFFSETFROM:-0800
TZOFFSETTO:-0700
TZNAME:PDT
DTSTART:20270314T100000
END:DAYLIGHT
BEGIN:STANDARD
TZOFFSETFROM:-0700
TZOFFSETTO:-0800
TZNAME:PST
DTSTART:20271107T090000
END:STANDARD
END:VTIMEZONE
BEGIN:VEVENT
DTSTART;TZID=America/Los_Angeles:20260127T130000
DTEND;TZID=America/Los_Angeles:20260127T140000
DTSTAMP:20260424T022927
CREATED:20251217T201920Z
LAST-MODIFIED:20251217T201920Z
UID:9338-1769518800-1769522400@norcalneca.org
SUMMARY:San Joaquin Building Trades LMCC
DESCRIPTION:
URL:https://norcalneca.org/calendar/san-joaquin-building-trades-lmcc/
LOCATION:Video Conference
END:VEVENT
BEGIN:VEVENT
DTSTART;TZID=America/Los_Angeles:20260127T150000
DTEND;TZID=America/Los_Angeles:20260127T170000
DTSTAMP:20260424T022927
CREATED:20251217T201635Z
LAST-MODIFIED:20251217T202025Z
UID:9334-1769526000-1769533200@norcalneca.org
SUMMARY:NorCal NECA Board of Directors
DESCRIPTION:
URL:https://norcalneca.org/calendar/norcal-neca-board-of-directors-5/
LOCATION:Video Conference
END:VEVENT
END:VCALENDAR