BEGIN:VCALENDAR
VERSION:2.0
PRODID:-//NorCal NECA - ECPv6.15.20//NONSGML v1.0//EN
CALSCALE:GREGORIAN
METHOD:PUBLISH
X-ORIGINAL-URL:https://norcalneca.org
X-WR-CALDESC:Events for NorCal NECA
REFRESH-INTERVAL;VALUE=DURATION:PT1H
X-Robots-Tag:noindex
X-PUBLISHED-TTL:PT1H
BEGIN:VTIMEZONE
TZID:America/Los_Angeles
BEGIN:DAYLIGHT
TZOFFSETFROM:-0800
TZOFFSETTO:-0700
TZNAME:PDT
DTSTART:20250309T100000
END:DAYLIGHT
BEGIN:STANDARD
TZOFFSETFROM:-0700
TZOFFSETTO:-0800
TZNAME:PST
DTSTART:20251102T090000
END:STANDARD
BEGIN:DAYLIGHT
TZOFFSETFROM:-0800
TZOFFSETTO:-0700
TZNAME:PDT
DTSTART:20260308T100000
END:DAYLIGHT
BEGIN:STANDARD
TZOFFSETFROM:-0700
TZOFFSETTO:-0800
TZNAME:PST
DTSTART:20261101T090000
END:STANDARD
BEGIN:DAYLIGHT
TZOFFSETFROM:-0800
TZOFFSETTO:-0700
TZNAME:PDT
DTSTART:20270314T100000
END:DAYLIGHT
BEGIN:STANDARD
TZOFFSETFROM:-0700
TZOFFSETTO:-0800
TZNAME:PST
DTSTART:20271107T090000
END:STANDARD
END:VTIMEZONE
BEGIN:VEVENT
DTSTART;TZID=America/Los_Angeles:20260120T170000
DTEND;TZID=America/Los_Angeles:20260120T180000
DTSTAMP:20260424T023155
CREATED:20251119T004851Z
LAST-MODIFIED:20251201T161235Z
UID:9136-1768928400-1768932000@norcalneca.org
SUMMARY:Codes & Standards Committee Meeting
DESCRIPTION:
URL:https://norcalneca.org/calendar/meeting-codes-standards-committee-20/
LOCATION:NorCal NECA Chapter Office\, 7041 Koll Center Parkway\, Suite 100\, Pleasanton\, CA\, 94566\, United States
END:VEVENT
BEGIN:VEVENT
DTSTART;TZID=America/Los_Angeles:20260120T180000
DTEND;TZID=America/Los_Angeles:20260120T200000
DTSTAMP:20260424T023155
CREATED:20251119T005017Z
LAST-MODIFIED:20251201T161219Z
UID:9138-1768932000-1768939200@norcalneca.org
SUMMARY:EBUCC Educational Forum
DESCRIPTION:
URL:https://norcalneca.org/calendar/educational-forum-east-bay-uniform-code-committee-7/
LOCATION:NorCal NECA Chapter Office\, 7041 Koll Center Parkway\, Suite 100\, Pleasanton\, CA\, 94566\, United States
END:VEVENT
END:VCALENDAR