BEGIN:VCALENDAR
VERSION:2.0
PRODID:-//NorCal NECA - ECPv6.15.20//NONSGML v1.0//EN
CALSCALE:GREGORIAN
METHOD:PUBLISH
X-WR-CALNAME:NorCal NECA
X-ORIGINAL-URL:https://norcalneca.org
X-WR-CALDESC:Events for NorCal NECA
REFRESH-INTERVAL;VALUE=DURATION:PT1H
X-Robots-Tag:noindex
X-PUBLISHED-TTL:PT1H
BEGIN:VTIMEZONE
TZID:America/Los_Angeles
BEGIN:DAYLIGHT
TZOFFSETFROM:-0800
TZOFFSETTO:-0700
TZNAME:PDT
DTSTART:20250309T100000
END:DAYLIGHT
BEGIN:STANDARD
TZOFFSETFROM:-0700
TZOFFSETTO:-0800
TZNAME:PST
DTSTART:20251102T090000
END:STANDARD
BEGIN:DAYLIGHT
TZOFFSETFROM:-0800
TZOFFSETTO:-0700
TZNAME:PDT
DTSTART:20260308T100000
END:DAYLIGHT
BEGIN:STANDARD
TZOFFSETFROM:-0700
TZOFFSETTO:-0800
TZNAME:PST
DTSTART:20261101T090000
END:STANDARD
BEGIN:DAYLIGHT
TZOFFSETFROM:-0800
TZOFFSETTO:-0700
TZNAME:PDT
DTSTART:20270314T100000
END:DAYLIGHT
BEGIN:STANDARD
TZOFFSETFROM:-0700
TZOFFSETTO:-0800
TZNAME:PST
DTSTART:20271107T090000
END:STANDARD
END:VTIMEZONE
BEGIN:VEVENT
DTSTART;TZID=America/Los_Angeles:20260113T080000
DTEND;TZID=America/Los_Angeles:20260115T160000
DTSTAMP:20260424T022926
CREATED:20251119T000010Z
LAST-MODIFIED:20251217T200731Z
UID:9134-1768291200-1768492800@norcalneca.org
SUMMARY:WORKSHOP: Basic Estimating of Electrical Construction 1/3
DESCRIPTION:
URL:https://norcalneca.org/calendar/workshop-basic-estimating-of-electrical-construction-3/
LOCATION:NorCal NECA Chapter Office\, 7041 Koll Center Parkway\, Suite 100\, Pleasanton\, CA\, 94566\, United States
END:VEVENT
BEGIN:VEVENT
DTSTART;TZID=America/Los_Angeles:20260115T090000
DTEND;TZID=America/Los_Angeles:20260115T100000
DTSTAMP:20260424T022926
CREATED:20251217T201108Z
LAST-MODIFIED:20251217T201108Z
UID:9325-1768467600-1768471200@norcalneca.org
SUMMARY:Solano EDC Board Meeting
DESCRIPTION:
URL:https://norcalneca.org/calendar/solano-edc-board-meeting/
LOCATION:Solano County Events Center\, 601 Texas St.\, Fairfield\, CA\, 94533\, United States
END:VEVENT
BEGIN:VEVENT
DTSTART;TZID=America/Los_Angeles:20260115T160000
DTEND;TZID=America/Los_Angeles:20260115T170000
DTSTAMP:20260424T022926
CREATED:20251119T015707Z
LAST-MODIFIED:20251201T161303Z
UID:9155-1768492800-1768496400@norcalneca.org
SUMMARY:Solano/Napa LMCC Meeting
DESCRIPTION:Zoom
URL:https://norcalneca.org/calendar/v-meeting-solano-napa-lmcc/
LOCATION:Zoom Video Conference
END:VEVENT
END:VCALENDAR